BEGIN:VCALENDAR
VERSION:2.0
BEGIN:VEVENT
UID:2F09CAF9-CCA1-46ED-B262-7145B51DD17E
DTSTART:20221120T180000Z
DTEND:20221120T220000Z
SUMMARY:GM Financial Parade of Lights
DESCRIPTION:At 6 p.m. on Sunday\, November 20\, the GM Financial Parade of
  Lights will take over the streets of Downtown Fort Worth for the 40 th ye
 ar\, with more than 100 illuminated floats\, an array of festive performer
 s\, holiday decor\, live music\, and hundreds of thousands of sparkling li
 ghts. With a sold-out crowd expected for this milestone year of Texas’ lar
 gest holiday parade\, attendees are encouraged to purchase reserved “Stree
 t Seats\,” which start at $18 and are available for sale online here: http
 s://fortworthparadeoflights.org/parade-information/street-seats/ .  \n   \
 n For the last four decades\, North Texas-based nonprofit organizations\,
  private and public businesses\, schools\, art and cultural groups\, and m
 ore have dazzled crowds with their professionally designed floats\, sparkl
 ing vintage cars\, festive horse-drawn carriages\, spirited marching bands
 \, and carolers as they prance through the 1.59-mile parade route. Carryin
 g on the tradition\, this year’s parade will conclude with a special appea
 rance from Santa and Mrs. Claus on their awe-inspiring finale float.\nDown
 town Fort Worth\n777 Taylor Street\nFort Worth\, TX 76102 United States\n
LOCATION:777 Taylor Street\, Fort Worth\, TX 76102
URL:http://arlington.bubblelife.com/community/pavlov_agency/library/3520187
 3/key/3511623970/GM_Financial_Parade_of_Lights
CREATED:20220915T215628Z
LAST-MODIFIED:20220915T215628Z
DTSTAMP:20260422T192528Z
CLASS:PUBLIC
STATUS:CONFIRMED
TRANSP:TRANSPARENT
SEQUENCE:1
END:VEVENT
END:VCALENDAR
